




BEGIN:VCALENDAR
VERSION:2.0
PRODID:-//MPOC - ECPv6.3.4//NONSGML v1.0//EN
CALSCALE:GREGORIAN
METHOD:PUBLISH
X-ORIGINAL-URL:https://www.mpoc.org.my
X-WR-CALDESC:Events for MPOC
REFRESH-INTERVAL;VALUE=DURATION:PT1H
X-Robots-Tag:noindex
X-PUBLISHED-TTL:PT1H
BEGIN:VTIMEZONE
TZID:Asia/Kuala_Lumpur
BEGIN:STANDARD
TZOFFSETFROM:+0800
TZOFFSETTO:+0800
TZNAME:+08
DTSTART:20240101T000000
END:STANDARD
END:VTIMEZONE
BEGIN:VEVENT
DTSTART;VALUE=DATE:20240909
DTEND;VALUE=DATE:20240910
DTSTAMP:20260417T161344
CREATED:20240111T015247Z
LAST-MODIFIED:20240814T030109Z
UID:10000120-1725840000-1725926399@www.mpoc.org.my
SUMMARY:Seminar on Specialty Fats Konya
DESCRIPTION:Turkey is a big market for Malaysian palm oil and has the potential to absorb more especially on downstream sector such as margarine which is used as a substitute for butter and vegetable fats for industrial usage. There is great potential for these products and demand will be driven by the high population\, increasing incomes and a change in consumer preferences which supports the increase in demand for these products. Seminar & BizMatch will focus on promoting palm oil usage in margarine and industrial fats sector. \n\n\n\nDate\nVenue\n\n\n\n\n9 September 2024\nKonya\, Turkey
URL:https://www.mpoc.org.my/event/seminar-on-specialty-fats/
LOCATION:Konya\, Turkey
CATEGORIES:MENA
ATTACH;FMTTYPE=image/jpeg:https://www.mpoc.org.my/wp-content/uploads/2024/01/mevlana-mosque-konya-turkey-v1.jpg
END:VEVENT
END:VCALENDAR