




BEGIN:VCALENDAR
VERSION:2.0
PRODID:-//MPOC - ECPv6.3.4//NONSGML v1.0//EN
CALSCALE:GREGORIAN
METHOD:PUBLISH
X-ORIGINAL-URL:https://www.mpoc.org.my
X-WR-CALDESC:Events for MPOC
REFRESH-INTERVAL;VALUE=DURATION:PT1H
X-Robots-Tag:noindex
X-PUBLISHED-TTL:PT1H
BEGIN:VTIMEZONE
TZID:Asia/Kuala_Lumpur
BEGIN:STANDARD
TZOFFSETFROM:+0800
TZOFFSETTO:+0800
TZNAME:+08
DTSTART:20250101T000000
END:STANDARD
END:VTIMEZONE
BEGIN:VEVENT
DTSTART;VALUE=DATE:20250409
DTEND;VALUE=DATE:20250411
DTSTAMP:20260417T161453
CREATED:20250409T041219Z
LAST-MODIFIED:20250409T041604Z
UID:10000200-1744156800-1744329599@www.mpoc.org.my
SUMMARY:4th Oleochemical Industry Development Conference
DESCRIPTION:A one-and-a-half-day combined seminar and panel discussion is going to be held. It will focus on exploring the market development and prospects of the China oleochemicals market. Moreover\, the latest applications from institutions and companies will be presented to unlock the potential growth within the oleochemicals market. \n\n\n\nDate\nVenue\n\n\n\n\n9 – 10 April 2025\nJiaxin City\, China
URL:https://www.mpoc.org.my/event/4th-oleochemical-industry-development-conference/
LOCATION:Jiaxin City\, China
CATEGORIES:APAC
ATTACH;FMTTYPE=image/jpeg:https://www.mpoc.org.my/wp-content/uploads/2025/04/4th-Oleochemical-Industry-Development-Conference.jpg
END:VEVENT
END:VCALENDAR