




BEGIN:VCALENDAR
VERSION:2.0
PRODID:-//MPOC - ECPv6.3.4//NONSGML v1.0//EN
CALSCALE:GREGORIAN
METHOD:PUBLISH
X-ORIGINAL-URL:https://www.mpoc.org.my
X-WR-CALDESC:Events for MPOC
REFRESH-INTERVAL;VALUE=DURATION:PT1H
X-Robots-Tag:noindex
X-PUBLISHED-TTL:PT1H
BEGIN:VTIMEZONE
TZID:Asia/Kuala_Lumpur
BEGIN:STANDARD
TZOFFSETFROM:+0800
TZOFFSETTO:+0800
TZNAME:+08
DTSTART:20250101T000000
END:STANDARD
END:VTIMEZONE
BEGIN:VEVENT
DTSTART;VALUE=DATE:20250729
DTEND;VALUE=DATE:20250730
DTSTAMP:20260422T034123
CREATED:20250729T040021Z
LAST-MODIFIED:20250729T041023Z
UID:10000202-1753747200-1753833599@www.mpoc.org.my
SUMMARY:Meet The Downstream Business Partners
DESCRIPTION:Fi Europe (Food Ingredients Europe) is one of the world’s leading trade exhibitions for the food and beverage ingredients industry. Palm oil suppliers can leverage this highly acclaimed exhibition to present their product offerings\, demonstrate the versatility and sustainability of palm oil\, and engage with global decision-makers. 								\n				\n				\n				\n					DateVenue17-19 November 2026Messe\, Frankfurt\, Germany
URL:https://www.mpoc.org.my/event/meet-the-downstream-business-partners/
LOCATION:Wanderers Club\, Johannesburg\, South Africa
CATEGORIES:AFRICA
ATTACH;FMTTYPE=image/jpeg:https://www.mpoc.org.my/wp-content/uploads/2025/07/Meet-The-Downstream-Business-Partners.jpg
END:VEVENT
BEGIN:VEVENT
DTSTART;VALUE=DATE:20250730
DTEND;VALUE=DATE:20250731
DTSTAMP:20260422T034123
CREATED:20241205T164214Z
LAST-MODIFIED:20250729T041206Z
UID:10000170-1753833600-1753919999@www.mpoc.org.my
SUMMARY:Chocolate Masters Challenge
DESCRIPTION:Fi Europe (Food Ingredients Europe) is one of the world’s leading trade exhibitions for the food and beverage ingredients industry. Palm oil suppliers can leverage this highly acclaimed exhibition to present their product offerings\, demonstrate the versatility and sustainability of palm oil\, and engage with global decision-makers. 								\n				\n				\n				\n					DateVenue17-19 November 2026Messe\, Frankfurt\, Germany
URL:https://www.mpoc.org.my/event/chocolate-masters-challenge/
LOCATION:South Africa
CATEGORIES:AFRICA
ATTACH;FMTTYPE=image/jpeg:https://www.mpoc.org.my/wp-content/uploads/2024/12/Chocolate-Masters-Challenge.jpg
END:VEVENT
END:VCALENDAR