




BEGIN:VCALENDAR
VERSION:2.0
PRODID:-//MPOC - ECPv6.3.4//NONSGML v1.0//EN
CALSCALE:GREGORIAN
METHOD:PUBLISH
X-WR-CALNAME:MPOC
X-ORIGINAL-URL:https://www.mpoc.org.my
X-WR-CALDESC:Events for MPOC
REFRESH-INTERVAL;VALUE=DURATION:PT1H
X-Robots-Tag:noindex
X-PUBLISHED-TTL:PT1H
BEGIN:VTIMEZONE
TZID:Asia/Kuala_Lumpur
BEGIN:STANDARD
TZOFFSETFROM:+0800
TZOFFSETTO:+0800
TZNAME:+08
DTSTART:20250101T000000
END:STANDARD
END:VTIMEZONE
BEGIN:VEVENT
DTSTART;VALUE=DATE:20250701
DTEND;VALUE=DATE:20250702
DTSTAMP:20260422T034023
CREATED:20241204T040247Z
LAST-MODIFIED:20241212T064524Z
UID:10000169-1751328000-1751414399@www.mpoc.org.my
SUMMARY:Edupalm 2025 - Palm Oil Familiarisation for University Students (TBC)
DESCRIPTION:Fi Europe (Food Ingredients Europe) is one of the world’s leading trade exhibitions for the food and beverage ingredients industry. Palm oil suppliers can leverage this highly acclaimed exhibition to present their product offerings\, demonstrate the versatility and sustainability of palm oil\, and engage with global decision-makers. 								\n				\n				\n				\n					DateVenue17-19 November 2026Messe\, Frankfurt\, Germany
URL:https://www.mpoc.org.my/event/edupalm-2025-palm-oil-familiarisation-for-university-students/
LOCATION:Malaysia
CATEGORIES:APAC
ATTACH;FMTTYPE=image/jpeg:https://www.mpoc.org.my/wp-content/uploads/2024/11/EduPalm-logo-250725.jpg
END:VEVENT
BEGIN:VEVENT
DTSTART;VALUE=DATE:20250702
DTEND;VALUE=DATE:20250706
DTSTAMP:20260422T034024
CREATED:20241205T082352Z
LAST-MODIFIED:20241205T082558Z
UID:10000190-1751414400-1751759999@www.mpoc.org.my
SUMMARY:Food Istanbul Fair
DESCRIPTION:Fi Europe (Food Ingredients Europe) is one of the world’s leading trade exhibitions for the food and beverage ingredients industry. Palm oil suppliers can leverage this highly acclaimed exhibition to present their product offerings\, demonstrate the versatility and sustainability of palm oil\, and engage with global decision-makers. 								\n				\n				\n				\n					DateVenue17-19 November 2026Messe\, Frankfurt\, Germany
URL:https://www.mpoc.org.my/event/food-istanbul-fair/
LOCATION:Istanbul Expo Center\, Istanbul\, Turkey
CATEGORIES:MENA
ATTACH;FMTTYPE=image/png:https://www.mpoc.org.my/wp-content/uploads/2024/12/Food-Istanbul-Fair-2025.png
END:VEVENT
END:VCALENDAR