




BEGIN:VCALENDAR
VERSION:2.0
PRODID:-//MPOC - ECPv6.3.4//NONSGML v1.0//EN
CALSCALE:GREGORIAN
METHOD:PUBLISH
X-WR-CALNAME:MPOC
X-ORIGINAL-URL:https://www.mpoc.org.my
X-WR-CALDESC:Events for MPOC
REFRESH-INTERVAL;VALUE=DURATION:PT1H
X-Robots-Tag:noindex
X-PUBLISHED-TTL:PT1H
BEGIN:VTIMEZONE
TZID:Asia/Kuala_Lumpur
BEGIN:STANDARD
TZOFFSETFROM:+0800
TZOFFSETTO:+0800
TZNAME:+08
DTSTART:20250101T000000
END:STANDARD
END:VTIMEZONE
BEGIN:VEVENT
DTSTART;VALUE=DATE:20250608
DTEND;VALUE=DATE:20250614
DTSTAMP:20260420T125616
CREATED:20241129T022309Z
LAST-MODIFIED:20241212T033733Z
UID:10000167-1749340800-1749859199@www.mpoc.org.my
SUMMARY:World Expo Osaka 2025
DESCRIPTION:Fi Europe (Food Ingredients Europe) is one of the world’s leading trade exhibitions for the food and beverage ingredients industry. Palm oil suppliers can leverage this highly acclaimed exhibition to present their product offerings\, demonstrate the versatility and sustainability of palm oil\, and engage with global decision-makers. 								\n				\n				\n				\n					DateVenue17-19 November 2026Messe\, Frankfurt\, Germany
URL:https://www.mpoc.org.my/event/world-expo-osaka-2025/
LOCATION:Kansai\, Osaka\, Japan
CATEGORIES:APAC
ATTACH;FMTTYPE=image/jpeg:https://www.mpoc.org.my/wp-content/uploads/2024/11/World-Expo-Osaka-2025-250625.jpg
END:VEVENT
BEGIN:VEVENT
DTSTART;VALUE=DATE:20250610
DTEND;VALUE=DATE:20250613
DTSTAMP:20260420T125616
CREATED:20241129T022045Z
LAST-MODIFIED:20241205T163436Z
UID:10000164-1749513600-1749772799@www.mpoc.org.my
SUMMARY:Africa Food Show 2025
DESCRIPTION:Fi Europe (Food Ingredients Europe) is one of the world’s leading trade exhibitions for the food and beverage ingredients industry. Palm oil suppliers can leverage this highly acclaimed exhibition to present their product offerings\, demonstrate the versatility and sustainability of palm oil\, and engage with global decision-makers. 								\n				\n				\n				\n					DateVenue17-19 November 2026Messe\, Frankfurt\, Germany
URL:https://www.mpoc.org.my/event/africa-food-show-2025/
LOCATION:Cape Town International Convention Centre (CTICC)\, Cape Town\, South Africa
CATEGORIES:AFRICA
ATTACH;FMTTYPE=image/webp:https://www.mpoc.org.my/wp-content/uploads/2024/11/Africa-Food-Show-10-12-0625.webp
END:VEVENT
BEGIN:VEVENT
DTSTART;VALUE=DATE:20250611
DTEND;VALUE=DATE:20250614
DTSTAMP:20260420T125616
CREATED:20241205T173940Z
LAST-MODIFIED:20250409T041715Z
UID:10000166-1749600000-1749859199@www.mpoc.org.my
SUMMARY:Sino-Malaysian Oleochemical Seminar
DESCRIPTION:Fi Europe (Food Ingredients Europe) is one of the world’s leading trade exhibitions for the food and beverage ingredients industry. Palm oil suppliers can leverage this highly acclaimed exhibition to present their product offerings\, demonstrate the versatility and sustainability of palm oil\, and engage with global decision-makers. 								\n				\n				\n				\n					DateVenue17-19 November 2026Messe\, Frankfurt\, Germany
URL:https://www.mpoc.org.my/event/sino-malaysian-oleochemical-seminar/
LOCATION:Suzhou City\, China
CATEGORIES:APAC
ATTACH;FMTTYPE=image/jpeg:https://www.mpoc.org.my/wp-content/uploads/2024/11/Sino-Malaysian-Advanced-Oleochemical-Seminar-June.jpg
END:VEVENT
BEGIN:VEVENT
DTSTART;VALUE=DATE:20250613
DTEND;VALUE=DATE:20250614
DTSTAMP:20260420T125616
CREATED:20241205T163717Z
LAST-MODIFIED:20241205T164001Z
UID:10000165-1749772800-1749859199@www.mpoc.org.my
SUMMARY:Palm Oil Networking Dialogue
DESCRIPTION:Fi Europe (Food Ingredients Europe) is one of the world’s leading trade exhibitions for the food and beverage ingredients industry. Palm oil suppliers can leverage this highly acclaimed exhibition to present their product offerings\, demonstrate the versatility and sustainability of palm oil\, and engage with global decision-makers. 								\n				\n				\n				\n					DateVenue17-19 November 2026Messe\, Frankfurt\, Germany
URL:https://www.mpoc.org.my/event/palm-oil-networking-dialogue/
LOCATION:South Africa
CATEGORIES:AFRICA
ATTACH;FMTTYPE=image/jpeg:https://www.mpoc.org.my/wp-content/uploads/2024/12/Palm-Oil-Networking-Dialogue.jpg
END:VEVENT
END:VCALENDAR