




BEGIN:VCALENDAR
VERSION:2.0
PRODID:-//MPOC - ECPv6.3.4//NONSGML v1.0//EN
CALSCALE:GREGORIAN
METHOD:PUBLISH
X-ORIGINAL-URL:https://www.mpoc.org.my
X-WR-CALDESC:Events for MPOC
REFRESH-INTERVAL;VALUE=DURATION:PT1H
X-Robots-Tag:noindex
X-PUBLISHED-TTL:PT1H
BEGIN:VTIMEZONE
TZID:Asia/Kuala_Lumpur
BEGIN:STANDARD
TZOFFSETFROM:+0800
TZOFFSETTO:+0800
TZNAME:+08
DTSTART:20240101T000000
END:STANDARD
END:VTIMEZONE
BEGIN:VEVENT
DTSTART;VALUE=DATE:20240723
DTEND;VALUE=DATE:20240724
DTSTAMP:20260421T124046
CREATED:20240712T020552Z
LAST-MODIFIED:20240814T023926Z
UID:10000134-1721692800-1721779199@www.mpoc.org.my
SUMMARY:MPOC Trade Networking & BizMatch in Myanmar
DESCRIPTION:Fi Europe (Food Ingredients Europe) is one of the world’s leading trade exhibitions for the food and beverage ingredients industry. Palm oil suppliers can leverage this highly acclaimed exhibition to present their product offerings\, demonstrate the versatility and sustainability of palm oil\, and engage with global decision-makers. 								\n				\n				\n				\n					DateVenue17-19 November 2026Messe\, Frankfurt\, Germany
URL:https://www.mpoc.org.my/event/mpoc-trade-networking-bizmatch-in-myanmar/
LOCATION:Manila\, Philippines
CATEGORIES:APAC
ATTACH;FMTTYPE=image/jpeg:https://www.mpoc.org.my/wp-content/uploads/2024/07/P5.jpg
END:VEVENT
BEGIN:VEVENT
DTSTART;VALUE=DATE:20240725
DTEND;VALUE=DATE:20240727
DTSTAMP:20260421T124046
CREATED:20240712T021911Z
LAST-MODIFIED:20240814T023907Z
UID:10000135-1721865600-1722038399@www.mpoc.org.my
SUMMARY:MPOC Trade Networking & BizMatch in the Philippines
DESCRIPTION:Fi Europe (Food Ingredients Europe) is one of the world’s leading trade exhibitions for the food and beverage ingredients industry. Palm oil suppliers can leverage this highly acclaimed exhibition to present their product offerings\, demonstrate the versatility and sustainability of palm oil\, and engage with global decision-makers. 								\n				\n				\n				\n					DateVenue17-19 November 2026Messe\, Frankfurt\, Germany
URL:https://www.mpoc.org.my/event/mpoc-trade-networking-bizmatch-in-the-philippines/
LOCATION:Manila\, Philippines
CATEGORIES:APAC
ATTACH;FMTTYPE=image/jpeg:https://www.mpoc.org.my/wp-content/uploads/2024/07/P4.jpg
END:VEVENT
END:VCALENDAR