




BEGIN:VCALENDAR
VERSION:2.0
PRODID:-//MPOC - ECPv6.3.4//NONSGML v1.0//EN
CALSCALE:GREGORIAN
METHOD:PUBLISH
X-WR-CALNAME:MPOC
X-ORIGINAL-URL:https://www.mpoc.org.my
X-WR-CALDESC:Events for MPOC
REFRESH-INTERVAL;VALUE=DURATION:PT1H
X-Robots-Tag:noindex
X-PUBLISHED-TTL:PT1H
BEGIN:VTIMEZONE
TZID:Asia/Kuala_Lumpur
BEGIN:STANDARD
TZOFFSETFROM:+0800
TZOFFSETTO:+0800
TZNAME:+08
DTSTART:20240101T000000
END:STANDARD
END:VTIMEZONE
BEGIN:VEVENT
DTSTART;VALUE=DATE:20240514
DTEND;VALUE=DATE:20240526
DTSTAMP:20260422T084442
CREATED:20240110T065031Z
LAST-MODIFIED:20240430T135715Z
UID:10000091-1715644800-1716681599@www.mpoc.org.my
SUMMARY:Trade & Networking Visit (Eastern Europe) in conjunction with InterFood Azerbaijan 2024
DESCRIPTION:Fi Europe (Food Ingredients Europe) is one of the world’s leading trade exhibitions for the food and beverage ingredients industry. Palm oil suppliers can leverage this highly acclaimed exhibition to present their product offerings\, demonstrate the versatility and sustainability of palm oil\, and engage with global decision-makers. 								\n				\n				\n				\n					DateVenue17-19 November 2026Messe\, Frankfurt\, Germany
URL:https://www.mpoc.org.my/event/trade-networking-visit-eastern-europe-in-conjunction-with-interfood-azerbaijan-2024/
LOCATION:Eastern Europe
CATEGORIES:HQ
ATTACH;FMTTYPE=image/jpeg:https://www.mpoc.org.my/wp-content/uploads/2024/01/Trade-Networking-Visit-Eastern-Europe.jpg
END:VEVENT
BEGIN:VEVENT
DTSTART;VALUE=DATE:20240521
DTEND;VALUE=DATE:20240524
DTSTAMP:20260422T084443
CREATED:20240111T015841Z
LAST-MODIFIED:20240430T135451Z
UID:10000126-1716249600-1716508799@www.mpoc.org.my
SUMMARY:Warsaw Food Expo
DESCRIPTION:Fi Europe (Food Ingredients Europe) is one of the world’s leading trade exhibitions for the food and beverage ingredients industry. Palm oil suppliers can leverage this highly acclaimed exhibition to present their product offerings\, demonstrate the versatility and sustainability of palm oil\, and engage with global decision-makers. 								\n				\n				\n				\n					DateVenue17-19 November 2026Messe\, Frankfurt\, Germany
URL:https://www.mpoc.org.my/event/warsaw-food-expo/
LOCATION:Ptak Warsaw Expo
CATEGORIES:EUROPE
ATTACH;FMTTYPE=image/png:https://www.mpoc.org.my/wp-content/uploads/2024/01/Warsaw-Food-Expo.png
END:VEVENT
END:VCALENDAR