




BEGIN:VCALENDAR
VERSION:2.0
PRODID:-//MPOC - ECPv6.3.4//NONSGML v1.0//EN
CALSCALE:GREGORIAN
METHOD:PUBLISH
X-ORIGINAL-URL:https://www.mpoc.org.my
X-WR-CALDESC:Events for MPOC
REFRESH-INTERVAL;VALUE=DURATION:PT1H
X-Robots-Tag:noindex
X-PUBLISHED-TTL:PT1H
BEGIN:VTIMEZONE
TZID:Asia/Kuala_Lumpur
BEGIN:STANDARD
TZOFFSETFROM:+0800
TZOFFSETTO:+0800
TZNAME:+08
DTSTART:20260101T000000
END:STANDARD
END:VTIMEZONE
BEGIN:VEVENT
DTSTART;VALUE=DATE:20261102
DTEND;VALUE=DATE:20261107
DTSTAMP:20260420T142637
CREATED:20251222T083856Z
LAST-MODIFIED:20251222T084101Z
UID:10000209-1793577600-1794009599@www.mpoc.org.my
SUMMARY:Trade Networking Visit 2026
DESCRIPTION:Edupalm 2025 – Palm Oil Familiarisation for Educators is a program designed to empower educators with comprehensive knowledge about the palm oil industry. The event will feature expert-led sessions\, interactive workshops\, and site visits to palm oil facilities. Participants will gain valuable insights into the industry’s sustainability\, economic impact\, and applications\, equipping them to educate future generations about the importance of palm oil in global markets and daily life. 								\n				\n				\n				\n					DateVenueNovember 2025Malaysia
URL:https://www.mpoc.org.my/event/trade-networking-visit-2026/
LOCATION:Kuala Lumpur\, Malaysia
CATEGORIES:HQ
ATTACH;FMTTYPE=image/jpeg:https://www.mpoc.org.my/wp-content/uploads/2025/12/Trade-Networking-2-6-Nov.jpg
END:VEVENT
BEGIN:VEVENT
DTSTART;VALUE=DATE:20261104
DTEND;VALUE=DATE:20261105
DTSTAMP:20260420T142638
CREATED:20251222T083406Z
LAST-MODIFIED:20251222T083528Z
UID:10000208-1793750400-1793836799@www.mpoc.org.my
SUMMARY:Malaysian Palm Oil Forum – Kuala Lumpur 2026
DESCRIPTION:Edupalm 2025 – Palm Oil Familiarisation for Educators is a program designed to empower educators with comprehensive knowledge about the palm oil industry. The event will feature expert-led sessions\, interactive workshops\, and site visits to palm oil facilities. Participants will gain valuable insights into the industry’s sustainability\, economic impact\, and applications\, equipping them to educate future generations about the importance of palm oil in global markets and daily life. 								\n				\n				\n				\n					DateVenueNovember 2025Malaysia
URL:https://www.mpoc.org.my/event/malaysian-palm-oil-forum-kuala-lumpur-2026/
LOCATION:Kuala Lumpur\, Malaysia
CATEGORIES:HQ
ATTACH;FMTTYPE=image/jpeg:https://www.mpoc.org.my/wp-content/uploads/2025/12/Logo-MPOF_KL-2026.jpg
END:VEVENT
BEGIN:VEVENT
DTSTART;VALUE=DATE:20261111
DTEND;VALUE=DATE:20261114
DTSTAMP:20260420T142638
CREATED:20251224T082841Z
LAST-MODIFIED:20251224T082957Z
UID:10000229-1794355200-1794614399@www.mpoc.org.my
SUMMARY:FOODEXPO QAZAQSTAN 2026
DESCRIPTION:Edupalm 2025 – Palm Oil Familiarisation for Educators is a program designed to empower educators with comprehensive knowledge about the palm oil industry. The event will feature expert-led sessions\, interactive workshops\, and site visits to palm oil facilities. Participants will gain valuable insights into the industry’s sustainability\, economic impact\, and applications\, equipping them to educate future generations about the importance of palm oil in global markets and daily life. 								\n				\n				\n				\n					DateVenueNovember 2025Malaysia
URL:https://www.mpoc.org.my/event/foodexpo-qazaqstan-2026/
LOCATION:Almaty\, Kazakhstan
CATEGORIES:OTHERS
ATTACH;FMTTYPE=image/jpeg:https://www.mpoc.org.my/wp-content/uploads/2025/12/FOODEXPO-QAZAQSTAN-2026.jpg
END:VEVENT
BEGIN:VEVENT
DTSTART;VALUE=DATE:20261117
DTEND;VALUE=DATE:20261120
DTSTAMP:20260420T142638
CREATED:20251224T091438Z
LAST-MODIFIED:20251224T091527Z
UID:10000235-1794873600-1795132799@www.mpoc.org.my
SUMMARY:Food Ingredients (Fi) Europe 2026
DESCRIPTION:Edupalm 2025 – Palm Oil Familiarisation for Educators is a program designed to empower educators with comprehensive knowledge about the palm oil industry. The event will feature expert-led sessions\, interactive workshops\, and site visits to palm oil facilities. Participants will gain valuable insights into the industry’s sustainability\, economic impact\, and applications\, equipping them to educate future generations about the importance of palm oil in global markets and daily life. 								\n				\n				\n				\n					DateVenueNovember 2025Malaysia
URL:https://www.mpoc.org.my/event/food-ingredients-fi-europe-2026/
LOCATION:Messe\, Frankfurt\, Germany.\, Frankfurt\, Germany
CATEGORIES:EUROPE
ATTACH;FMTTYPE=image/png:https://www.mpoc.org.my/wp-content/uploads/2025/12/Food-Ingredients-Fi-Europe-2026.png
END:VEVENT
BEGIN:VEVENT
DTSTART;VALUE=DATE:20261207
DTEND;VALUE=DATE:20261211
DTSTAMP:20260420T142638
CREATED:20251222T091352Z
LAST-MODIFIED:20251222T092437Z
UID:10000214-1796601600-1796947199@www.mpoc.org.my
SUMMARY:Food Africa Exhibition 2026
DESCRIPTION:Edupalm 2025 – Palm Oil Familiarisation for Educators is a program designed to empower educators with comprehensive knowledge about the palm oil industry. The event will feature expert-led sessions\, interactive workshops\, and site visits to palm oil facilities. Participants will gain valuable insights into the industry’s sustainability\, economic impact\, and applications\, equipping them to educate future generations about the importance of palm oil in global markets and daily life. 								\n				\n				\n				\n					DateVenueNovember 2025Malaysia
URL:https://www.mpoc.org.my/event/food-africa-exhibition-2026/
LOCATION:Egypt’s International Exhibition Centre\, Cairo\, Egypt\, Cairo\, Egypt
CATEGORIES:AFRICA,MENA
ATTACH;FMTTYPE=image/png:https://www.mpoc.org.my/wp-content/uploads/2025/12/Food-Africa-Exhibition-2026.png
END:VEVENT
BEGIN:VEVENT
DTSTART;VALUE=DATE:20261211
DTEND;VALUE=DATE:20261212
DTSTAMP:20260420T142638
CREATED:20251222T092327Z
LAST-MODIFIED:20251222T215408Z
UID:10000215-1796947200-1797033599@www.mpoc.org.my
SUMMARY:BizMatch (Food Africa Exhibition 2026)
DESCRIPTION:Edupalm 2025 – Palm Oil Familiarisation for Educators is a program designed to empower educators with comprehensive knowledge about the palm oil industry. The event will feature expert-led sessions\, interactive workshops\, and site visits to palm oil facilities. Participants will gain valuable insights into the industry’s sustainability\, economic impact\, and applications\, equipping them to educate future generations about the importance of palm oil in global markets and daily life. 								\n				\n				\n				\n					DateVenueNovember 2025Malaysia
URL:https://www.mpoc.org.my/event/bizmatch-food-africa-exhibition-2026/
LOCATION:Cairo\, Egypt
CATEGORIES:AFRICA,MENA
ATTACH;FMTTYPE=image/png:https://www.mpoc.org.my/wp-content/uploads/2025/12/BizMatch-Food-Africa-Exhibition-2026.png
END:VEVENT
BEGIN:VEVENT
DTSTART;VALUE=DATE:20261215
DTEND;VALUE=DATE:20261219
DTSTAMP:20260420T142638
CREATED:20251224T052546Z
LAST-MODIFIED:20251224T054059Z
UID:10000223-1797292800-1797638399@www.mpoc.org.my
SUMMARY:Worldfood Istanbul 2026
DESCRIPTION:Edupalm 2025 – Palm Oil Familiarisation for Educators is a program designed to empower educators with comprehensive knowledge about the palm oil industry. The event will feature expert-led sessions\, interactive workshops\, and site visits to palm oil facilities. Participants will gain valuable insights into the industry’s sustainability\, economic impact\, and applications\, equipping them to educate future generations about the importance of palm oil in global markets and daily life. 								\n				\n				\n				\n					DateVenueNovember 2025Malaysia
URL:https://www.mpoc.org.my/event/worldfood-istanbul-2026/
LOCATION:Istanbul Expo Center\, Istanbul\, Turkey
CATEGORIES:MENA
ATTACH;FMTTYPE=image/jpeg:https://www.mpoc.org.my/wp-content/uploads/2025/12/WorldFood-Istanbul-2026.jpg
END:VEVENT
END:VCALENDAR