




BEGIN:VCALENDAR
VERSION:2.0
PRODID:-//MPOC - ECPv6.3.4//NONSGML v1.0//EN
CALSCALE:GREGORIAN
METHOD:PUBLISH
X-WR-CALNAME:MPOC
X-ORIGINAL-URL:https://www.mpoc.org.my
X-WR-CALDESC:Events for MPOC
REFRESH-INTERVAL;VALUE=DURATION:PT1H
X-Robots-Tag:noindex
X-PUBLISHED-TTL:PT1H
BEGIN:VTIMEZONE
TZID:Asia/Kuala_Lumpur
BEGIN:STANDARD
TZOFFSETFROM:+0800
TZOFFSETTO:+0800
TZNAME:+08
DTSTART:20250101T000000
END:STANDARD
END:VTIMEZONE
BEGIN:VEVENT
DTSTART;VALUE=DATE:20250109
DTEND;VALUE=DATE:20250111
DTSTAMP:20260424T095244
CREATED:20241128T011307Z
LAST-MODIFIED:20241206T012612Z
UID:10000140-1736380800-1736553599@www.mpoc.org.my
SUMMARY:Indusfood 2025
DESCRIPTION:Food Ingredients India 2026 is a leading international exhibition for the food ingredients sector\, bringing together global suppliers\, manufacturers\, and industry professionals. As an exhibitor\, MPOC will showcase Malaysian palm oil and its wide range of food applications\, engaging directly with industry players to highlight its versatility and sustainability while exploring new business and collaboration opportunities in the Indian market. 								\n				\n				\n				\n					DateVenue26 – 28 August 2026Bombay Exhibition Centre (BEC)\, NESCO Grounds\, Goregaon East\, Mumbai\,
URL:https://www.mpoc.org.my/event/indusfood-2025/
LOCATION:India Exposition Mart\, New Delhi\, NCR\, India
CATEGORIES:SOUTH ASIA
ATTACH;FMTTYPE=image/jpeg:https://www.mpoc.org.my/wp-content/uploads/2024/11/Indusfood-2025-8-10-Jan-2025.jpg
END:VEVENT
END:VCALENDAR