




BEGIN:VCALENDAR
VERSION:2.0
PRODID:-//MPOC - ECPv6.3.4//NONSGML v1.0//EN
CALSCALE:GREGORIAN
METHOD:PUBLISH
X-ORIGINAL-URL:https://www.mpoc.org.my
X-WR-CALDESC:Events for MPOC
REFRESH-INTERVAL;VALUE=DURATION:PT1H
X-Robots-Tag:noindex
X-PUBLISHED-TTL:PT1H
BEGIN:VTIMEZONE
TZID:Asia/Kuala_Lumpur
BEGIN:STANDARD
TZOFFSETFROM:+0800
TZOFFSETTO:+0800
TZNAME:+08
DTSTART:20250101T000000
END:STANDARD
END:VTIMEZONE
BEGIN:VEVENT
DTSTART;VALUE=DATE:20250603
DTEND;VALUE=DATE:20250605
DTSTAMP:20260422T065431
CREATED:20241204T035202Z
LAST-MODIFIED:20241205T072224Z
UID:10000163-1748908800-1749081599@www.mpoc.org.my
SUMMARY:Suppliers' Day NYSCC 2025
DESCRIPTION:Food Expo Kazakhstan is a large-scale exhibition showcasing the food and beverage industry in Kazakhstan\, serving as a key meeting point for industry representatives from across the region. With strong participation from Kazakhstan and Central Asia\, the exhibition offers broad opportunities for business engagement\, networking\, and market development. 								\n				\n				\n				\n					DateVenue11-13 November 2026Almaty\, Kazakhstan
URL:https://www.mpoc.org.my/event/suppliers-day-nyscc-2025/
LOCATION:Jacob Javits Convention Center\, New York City\, USA
CATEGORIES:OTHERS
ATTACH;FMTTYPE=image/png:https://www.mpoc.org.my/wp-content/uploads/2024/11/NYSCC-Suppliers-Day-2025-3-4-0625.png
END:VEVENT
BEGIN:VEVENT
DTSTART;VALUE=DATE:20250605
DTEND;VALUE=DATE:20250607
DTSTAMP:20260422T065432
CREATED:20250409T024837Z
LAST-MODIFIED:20250409T025536Z
UID:10000198-1749081600-1749254399@www.mpoc.org.my
SUMMARY:Sustainable Cosmetics Summit
DESCRIPTION:Food Expo Kazakhstan is a large-scale exhibition showcasing the food and beverage industry in Kazakhstan\, serving as a key meeting point for industry representatives from across the region. With strong participation from Kazakhstan and Central Asia\, the exhibition offers broad opportunities for business engagement\, networking\, and market development. 								\n				\n				\n				\n					DateVenue11-13 November 2026Almaty\, Kazakhstan
URL:https://www.mpoc.org.my/event/sustainable-cosmetics-summit/
CATEGORIES:OTHERS
ATTACH;FMTTYPE=image/jpeg:https://www.mpoc.org.my/wp-content/uploads/2025/04/Sustainable-Cosmetics-Summit.jpg
END:VEVENT
END:VCALENDAR