




BEGIN:VCALENDAR
VERSION:2.0
PRODID:-//MPOC - ECPv6.3.4//NONSGML v1.0//EN
CALSCALE:GREGORIAN
METHOD:PUBLISH
X-ORIGINAL-URL:https://www.mpoc.org.my
X-WR-CALDESC:Events for MPOC
REFRESH-INTERVAL;VALUE=DURATION:PT1H
X-Robots-Tag:noindex
X-PUBLISHED-TTL:PT1H
BEGIN:VTIMEZONE
TZID:Asia/Kuala_Lumpur
BEGIN:STANDARD
TZOFFSETFROM:+0800
TZOFFSETTO:+0800
TZNAME:+08
DTSTART:20250101T000000
END:STANDARD
END:VTIMEZONE
BEGIN:VEVENT
DTSTART;VALUE=DATE:20251209
DTEND;VALUE=DATE:20251213
DTSTAMP:20260421T131107
CREATED:20241204T043015Z
LAST-MODIFIED:20250409T031711Z
UID:10000189-1765238400-1765583999@www.mpoc.org.my
SUMMARY:Food Africa 2025
DESCRIPTION:Gulfood 2026 is the world’s largest food sourcing exhibition\, convening a global network of food manufacturers\, suppliers\, buyers\, and industry leaders. Covering key sectors such as global food products\, dairy\, meat and poultry\, as well as food technology innovation and digitalisation\, the event offers a comprehensive platform for market engagement and trend insights. Held across Dubai World Trade Centre and Dubai Exhibition Centre at Expo City Dubai\, Gulfood 2026 provides high visibility and extensive opportunities for business networking\, partnership building\, and trade development in the Middle East and beyond. 								\n				\n				\n				\n					DateVenue26-30 January 2026Dubai World Trade Centre & Dubai Exhibition Centre\, Dubai\, UAE
URL:https://www.mpoc.org.my/event/food-africa-2025/
LOCATION:Egypt
CATEGORIES:MENA
ATTACH;FMTTYPE=image/png:https://www.mpoc.org.my/wp-content/uploads/2024/12/Food-Africa-2025-1225.png
END:VEVENT
END:VCALENDAR