




BEGIN:VCALENDAR
VERSION:2.0
PRODID:-//MPOC - ECPv6.3.4//NONSGML v1.0//EN
CALSCALE:GREGORIAN
METHOD:PUBLISH
X-WR-CALNAME:MPOC
X-ORIGINAL-URL:https://www.mpoc.org.my
X-WR-CALDESC:Events for MPOC
REFRESH-INTERVAL;VALUE=DURATION:PT1H
X-Robots-Tag:noindex
X-PUBLISHED-TTL:PT1H
BEGIN:VTIMEZONE
TZID:Asia/Kuala_Lumpur
BEGIN:STANDARD
TZOFFSETFROM:+0800
TZOFFSETTO:+0800
TZNAME:+08
DTSTART:20240101T000000
END:STANDARD
END:VTIMEZONE
BEGIN:VEVENT
DTSTART;TZID=Asia/Kuala_Lumpur:20240401T080000
DTEND;TZID=Asia/Kuala_Lumpur:20240401T170000
DTSTAMP:20260423T062639
CREATED:20240110T064607Z
LAST-MODIFIED:20240207T073708Z
UID:10000087-1711958400-1711990800@www.mpoc.org.my
SUMMARY:Downstream Export Enhancement (Nutraceuticals)
DESCRIPTION:The Trade Networking Visit offers Malaysian industry players a focused platform to engage directly with international buyers through targeted business matching and one-on-one meetings in a conducive\, business-oriented setting. The programme creates opportunities to build relationships\, explore market prospects\, and position Malaysian palm oil as a reliable and sustainable choice across global markets. 								\n				\n				\n				\n					DateVenue13- 17 April 2026Kuala Lumpur\, Malaysia
URL:https://www.mpoc.org.my/event/downstream-export-enhancement-nutraceuticals/
LOCATION:New York\, US
CATEGORIES:HQ
ATTACH;FMTTYPE=image/jpeg:https://www.mpoc.org.my/wp-content/uploads/2024/01/Downstream-Export-Enhancement-Nutraceuticals-2024-1.jpg
END:VEVENT
END:VCALENDAR