




BEGIN:VCALENDAR
VERSION:2.0
PRODID:-//MPOC - ECPv6.3.4//NONSGML v1.0//EN
CALSCALE:GREGORIAN
METHOD:PUBLISH
X-ORIGINAL-URL:https://www.mpoc.org.my
X-WR-CALDESC:Events for MPOC
REFRESH-INTERVAL;VALUE=DURATION:PT1H
X-Robots-Tag:noindex
X-PUBLISHED-TTL:PT1H
BEGIN:VTIMEZONE
TZID:Asia/Kuala_Lumpur
BEGIN:STANDARD
TZOFFSETFROM:+0800
TZOFFSETTO:+0800
TZNAME:+08
DTSTART:20240101T000000
END:STANDARD
END:VTIMEZONE
BEGIN:VEVENT
DTSTART;TZID=Asia/Kuala_Lumpur:20240219T080000
DTEND;TZID=Asia/Kuala_Lumpur:20240223T170000
DTSTAMP:20260423T145938
CREATED:20240123T072032Z
LAST-MODIFIED:20240208T041239Z
UID:10000129-1708329600-1708707600@www.mpoc.org.my
SUMMARY:Gulfood 2024
DESCRIPTION:The Trade Networking Visit offers Malaysian industry players a focused platform to engage directly with international buyers through targeted business matching and one-on-one meetings in a conducive\, business-oriented setting. The programme creates opportunities to build relationships\, explore market prospects\, and position Malaysian palm oil as a reliable and sustainable choice across global markets. 								\n				\n				\n				\n					DateVenue13- 17 April 2026Kuala Lumpur\, Malaysia
URL:https://www.mpoc.org.my/event/gulfood-2024/
LOCATION:Dubai\, UAE
CATEGORIES:HQ
ATTACH;FMTTYPE=image/jpeg:https://www.mpoc.org.my/wp-content/uploads/2024/01/Gulfood-2.jpg
END:VEVENT
END:VCALENDAR