




BEGIN:VCALENDAR
VERSION:2.0
PRODID:-//MPOC - ECPv6.3.4//NONSGML v1.0//EN
CALSCALE:GREGORIAN
METHOD:PUBLISH
X-WR-CALNAME:MPOC
X-ORIGINAL-URL:https://www.mpoc.org.my
X-WR-CALDESC:Events for MPOC
REFRESH-INTERVAL;VALUE=DURATION:PT1H
X-Robots-Tag:noindex
X-PUBLISHED-TTL:PT1H
BEGIN:VTIMEZONE
TZID:Asia/Kuala_Lumpur
BEGIN:STANDARD
TZOFFSETFROM:+0800
TZOFFSETTO:+0800
TZNAME:+08
DTSTART:20240101T000000
END:STANDARD
END:VTIMEZONE
BEGIN:VEVENT
DTSTART;VALUE=DATE:20240615
DTEND;VALUE=DATE:20240616
DTSTAMP:20260424T221409
CREATED:20240110T090449Z
LAST-MODIFIED:20240814T024020Z
UID:10000101-1718409600-1718495999@www.mpoc.org.my
SUMMARY:Palm Oil Technical Seminar for SME Food Players
DESCRIPTION:Bakery China is Asia’s largest bakery and confectionery trade fair\, bringing together manufacturers\, distributors\, and industry innovators from across the region. As a participant\, MPOC will showcase the versatility of Malaysian palm oil in bakery and confectionery applications through technical presentations and interactive demonstrations\, providing a platform for industry engagement and business development. 								\n				\n				\n				\n					DateVenue20-23 May 2026Shanghai\, China
URL:https://www.mpoc.org.my/event/palm-oil-technical-seminar-for-sme-food-players/
LOCATION:Nanning\, Guangxi\, China
CATEGORIES:APAC
ATTACH;FMTTYPE=image/jpeg:https://www.mpoc.org.my/wp-content/uploads/2024/01/Palm-Oil-Technical-Seminar-for-SME-Food-Players.jpg
END:VEVENT
END:VCALENDAR